BEGIN:VCALENDAR
VERSION:2.0
PRODID:-//https://ischiaeventi.it///NONSGML kigkonsult.se iCalcreator 2.10.15//
METHOD:PUBLISH
BEGIN:VEVENT
UID:20260424T041633UTC-0454UXVhlp@https://ischiaeventi.it/
DTSTAMP:20260424T041633Z
DESCRIPTION:Proiezioni:\nPARE PARECCHIO PARIGIdi Leonardo Pieraccioni - 97
 \n&nbsp\; https://ischiaeventi.it/eventi-passati/evento/31204-ischia-globa
 l-fest-2024
DTSTART:20240708T193000Z
DTEND:20240708T215900Z
LOCATION:Piazzale del Soccorso (Via del Soccorso\, 6\, 80075 Forio NA\, Ita
 lia)
SUMMARY:Ischia Global Fest 2024
URL:https://ischiaeventi.it/eventi-passati/evento/31204-ischia-global-fest-
 2024
END:VEVENT
END:VCALENDAR
