BEGIN:VCALENDAR
VERSION:2.0
PRODID:-//https://ischiaeventi.it///NONSGML kigkonsult.se iCalcreator 2.10.15//
METHOD:PUBLISH
BEGIN:VEVENT
UID:20260424T012207UTC-6468Ix8MiN@https://ischiaeventi.it/
DTSTAMP:20260424T012207Z
DESCRIPTION:dalle ore 21.30 Serata Latino Americano e Balli CaraibiciVieni 
 a ballare con noi lungo il corso e in Piazza S. Leonardo con Fabrizia Cerr
 itoDJ SETMichelle BLUNA ROSSA B2BGG RobiniaDj MerlinoThe BeatBrothersSTAND
  ENOGASTRONOMICI lungo il corso https://ischiaeventi.it/eventi-passati/eve
 nto/31365-panza-summer-fest
DTSTART:20240719T180000Z
DTEND:20240719T215900Z
LOCATION:Piazza San Leonardo ( Via Cavaliere Leonardo Impagliazzo\, 53\, 80
 075 Forio NA)
SUMMARY:Panza summer fest
URL:https://ischiaeventi.it/eventi-passati/evento/31365-panza-summer-fest
END:VEVENT
END:VCALENDAR
