BEGIN:VCALENDAR
VERSION:2.0
PRODID:-//https://ischiaeventi.it///NONSGML kigkonsult.se iCalcreator 2.10.15//
METHOD:PUBLISH
BEGIN:VEVENT
UID:20260423T210616UTC-4360TVr1xC@https://ischiaeventi.it/
DTSTAMP:20260423T210616Z
DESCRIPTION:Processione in barca dal piazzale delle Alghe https://ischiaeve
 nti.it/eventi-passati/evento/31474-processione-in-barca-dal-piazzale-delle
 -alghe
DTSTART:20240725T170000Z
DTEND:20240725T180000Z
LOCATION:Chiesa Sant'Anna a Cartaromana (Via Nuova Cartaromana\, 80077 Isch
 ia NA)
SUMMARY:Processione in barca dal piazzale delle Alghe
URL:https://ischiaeventi.it/eventi-passati/evento/31474-processione-in-barc
 a-dal-piazzale-delle-alghe
END:VEVENT
END:VCALENDAR
