BEGIN:VCALENDAR
VERSION:2.0
PRODID:-//https://ischiaeventi.it///NONSGML kigkonsult.se iCalcreator 2.10.15//
METHOD:PUBLISH
BEGIN:VEVENT
UID:20260424T000024UTC-9919zeLjbS@https://ischiaeventi.it/
DTSTAMP:20260424T000024Z
DESCRIPTION:ciclo di incontri sul cinema di Luchino Visconti. I° appuntamen
 to: La terra trema https://ischiaeventi.it/eventi-passati/evento/31533-ras
 segna-estiva-la-colombaia-la-terra-trema
DTSTART:20240803T190000Z
DTEND:20240803T203000Z
LOCATION:La Colombaia (Via Francesco Calise\, 130\, 80075 Forio NA\, Italia
 )
SUMMARY:Rassegna estiva La Colombaia: La terra trema
URL:https://ischiaeventi.it/eventi-passati/evento/31533-rassegna-estiva-la-
 colombaia-la-terra-trema
END:VEVENT
END:VCALENDAR
