BEGIN:VCALENDAR
VERSION:2.0
PRODID:-//https://ischiaeventi.it///NONSGML kigkonsult.se iCalcreator 2.10.15//
METHOD:PUBLISH
BEGIN:VEVENT
UID:20260423T223306UTC-3138cgUZWP@https://ischiaeventi.it/
DTSTAMP:20260423T223306Z
DESCRIPTION:ciclo di incontri sul cinema di Luchino Visconti. Il° appuntame
 nto: Bellissima https://ischiaeventi.it/eventi-passati/evento/31534-rasseg
 na-estiva-la-colombaia-bellissima
DTSTART:20240804T190000Z
DTEND:20240804T203000Z
LOCATION:La Colombaia (Via Francesco Calise\, 130\, 80075 Forio NA\, Italia
 )
SUMMARY:Rassegna estiva La Colombaia: bellissima
URL:https://ischiaeventi.it/eventi-passati/evento/31534-rassegna-estiva-la-
 colombaia-bellissima
END:VEVENT
END:VCALENDAR
