BEGIN:VCALENDAR
VERSION:2.0
PRODID:-//https://ischiaeventi.it///NONSGML kigkonsult.se iCalcreator 2.10.15//
METHOD:PUBLISH
BEGIN:VEVENT
UID:20260423T223348UTC-1745T4kr5z@https://ischiaeventi.it/
DTSTAMP:20260423T223348Z
DESCRIPTION:ciclo di incontri sul cinema di Luchino Visconti III° appuntame
 nto: Senso https://ischiaeventi.it/eventi-passati/evento/31536-rassegna-es
 tiva-la-colombaia-sotto-le-vaghe-stelle-dellorsa
DTSTART:20240810T190000Z
DTEND:20240810T203000Z
LOCATION:La Colombaia (Via Francesco Calise\, 130\, 80075 Forio NA\, Italia
 )
SUMMARY:Rassegna estiva La Colombaia: Sotto le vaghe stelle dell’orsa
URL:https://ischiaeventi.it/eventi-passati/evento/31536-rassegna-estiva-la-
 colombaia-sotto-le-vaghe-stelle-dellorsa
END:VEVENT
END:VCALENDAR
