BEGIN:VCALENDAR
VERSION:2.0
PRODID:-//https://ischiaeventi.it///NONSGML kigkonsult.se iCalcreator 2.10.15//
METHOD:PUBLISH
BEGIN:VEVENT
UID:20260423T223348UTC-35020Xve2b@https://ischiaeventi.it/
DTSTAMP:20260423T223348Z
DESCRIPTION:un film di Alessandra Cutolo\, a dialogare con lei\, Leonardo D
 i Costanzo\, regista https://ischiaeventi.it/eventi-passati/evento/31541-r
 assegna-estiva-la-colombaia-proiezione-di-mama-mercy
DTSTART:20240830T190000Z
DTEND:20240830T203000Z
LOCATION:La Colombaia (Via Francesco Calise\, 130\, 80075 Forio NA\, Italia
 )
SUMMARY:Rassegna estiva La Colombaia: Proiezione di Mama Mercy
URL:https://ischiaeventi.it/eventi-passati/evento/31541-rassegna-estiva-la-
 colombaia-proiezione-di-mama-mercy
END:VEVENT
END:VCALENDAR
