BEGIN:VCALENDAR
VERSION:2.0
PRODID:-//https://ischiaeventi.it///NONSGML kigkonsult.se iCalcreator 2.10.15//
METHOD:PUBLISH
BEGIN:VEVENT
UID:20260423T223351UTC-5730LGfMFf@https://ischiaeventi.it/
DTSTAMP:20260423T223351Z
DESCRIPTION:Compagnia Shakespeare in sneakers https://ischiaeventi.it/event
 i-passati/evento/31544-rassegna-estiva-la-colombaia-sogno-di-una-notte-di-
 mezza-estate
DTSTART:20240907T193000Z
DTEND:20240907T203000Z
LOCATION:La Colombaia (Via Francesco Calise\, 130\, 80075 Forio NA\, Italia
 )
SUMMARY:Rassegna estiva La Colombaia: Sogno di una notte di mezza estate
URL:https://ischiaeventi.it/eventi-passati/evento/31544-rassegna-estiva-la-
 colombaia-sogno-di-una-notte-di-mezza-estate
END:VEVENT
END:VCALENDAR
