BEGIN:VCALENDAR
VERSION:2.0
PRODID:-//https://ischiaeventi.it///NONSGML kigkonsult.se iCalcreator 2.10.15//
METHOD:PUBLISH
BEGIN:VEVENT
UID:20260423T225920UTC-5095cXNNUx@https://ischiaeventi.it/
DTSTAMP:20260423T225920Z
DESCRIPTION:Festa della birra: salsicciata alla brace\n2 agosto a Panza si 
 ride col cabarey di Mariano Bruno Direttamente da Made in Sud https://isch
 iaeventi.it/eventi-passati/evento/31554-festa-della-birra-salsicciata-alla
 -brace
DTSTART:20240802T190000Z
DTEND:20240802T215900Z
LOCATION:Piazza San Leonardo ( Via Cavaliere Leonardo Impagliazzo\, 53\, 80
 075 Forio NA)
SUMMARY:Festa della birra: salsicciata alla brace
URL:https://ischiaeventi.it/eventi-passati/evento/31554-festa-della-birra-s
 alsicciata-alla-brace
END:VEVENT
END:VCALENDAR
