BEGIN:VCALENDAR
VERSION:2.0
PRODID:-//https://ischiaeventi.it///NONSGML kigkonsult.se iCalcreator 2.10.15//
METHOD:PUBLISH
BEGIN:VEVENT
UID:20260424T025809UTC-1754endFPU@https://ischiaeventi.it/
DTSTAMP:20260424T025809Z
DESCRIPTION:Un Viaggio nel gusto\, guidato da oltre 180 chef\, pizzaioli\, 
 salumieri e pasticceri. Evento nato da un’idea di Nino di Costanzo e Pasqu
 ale Palamaro. www.ischiasafari.it\n€ 70 a persona https://ischiaeventi.it/
 eventi-passati/evento/31747-festa-al-negombo-ischia-safari
DTSTART:20240916T183000Z
DTEND:20240916T210000Z
LOCATION:Parco Termale Negombo (Baia di S. Montano\, - 80076 Lacco Ameno NA
 \, Italia)
SUMMARY:Festa al negombo - ischia safari
URL:https://ischiaeventi.it/eventi-passati/evento/31747-festa-al-negombo-is
 chia-safari
END:VEVENT
END:VCALENDAR
