BEGIN:VCALENDAR
VERSION:2.0
PRODID:-//https://ischiaeventi.it///NONSGML kigkonsult.se iCalcreator 2.10.15//
METHOD:PUBLISH
BEGIN:VEVENT
UID:20260423T223113UTC-5509tVFB6x@https://ischiaeventi.it/
DTSTAMP:20260423T223113Z
DESCRIPTION:“Rebellion” Le intelligenze artificiali e il coraggio di sfidar
 e le convenzioni Gli artisti presenteranno le loro opere riguardante il te
 ma\n&nbsp\; https://ischiaeventi.it/eventi-passati/evento/31826-la-filosof
 ia-il-castello-e-la-torre-art-action
DTSTART:20240903T173000Z
DTEND:20240903T213000Z
LOCATION:Palazzo D'Avalos (Via Largo Castello\, 80079 Procida NA\, Italia)
SUMMARY:La Filosofia\, il castello e la Torre: ART ACTION
URL:https://ischiaeventi.it/eventi-passati/evento/31826-la-filosofia-il-cas
 tello-e-la-torre-art-action
END:VEVENT
END:VCALENDAR
