BEGIN:VCALENDAR
VERSION:2.0
PRODID:-//https://ischiaeventi.it///NONSGML kigkonsult.se iCalcreator 2.10.15//
METHOD:PUBLISH
BEGIN:VEVENT
UID:20260423T223058UTC-1651G5IL8e@https://ischiaeventi.it/
DTSTAMP:20260423T223058Z
DESCRIPTION:AI: applicazioni e nuovi scenari nelle arti visive Massimo Russ
 o\, Architetto https://ischiaeventi.it/eventi-passati/evento/31828-la-filo
 sofia-il-castello-e-la-torre-lectio-magistralis
DTSTART:20240906T160000Z
DTEND:20240906T183000Z
LOCATION:Biblioteca Antoniana (Rampe S.Antonio\, 5\, 80077 - Ischia)
SUMMARY:La Filosofia\, il castello e la Torre: LECTIO MAGISTRALIS
URL:https://ischiaeventi.it/eventi-passati/evento/31828-la-filosofia-il-cas
 tello-e-la-torre-lectio-magistralis
END:VEVENT
END:VCALENDAR
