BEGIN:VCALENDAR
VERSION:2.0
PRODID:-//https://ischiaeventi.it///NONSGML kigkonsult.se iCalcreator 2.10.15//
METHOD:PUBLISH
BEGIN:VEVENT
UID:20260423T223348UTC-2649FDBFUz@https://ischiaeventi.it/
DTSTAMP:20260423T223348Z
DESCRIPTION:Here I am!Andrea De Siano e Raffaele Mirelli dialogano sulla fe
 licità e sull’artificio dell’identità insieme agli oncologi dell’ASL Napol
 i 2 Nord: Roberto Mabilia e Maurizio Matarese https://ischiaeventi.it/even
 ti-passati/evento/31829-la-filosofia-il-castello-e-la-torre-raccolta-fondi
 -per-la-ricerca-sulle-malattie-oncologiche
DTSTART:20240914T160000Z
DTEND:20240914T183000Z
LOCATION:Villa Arbusto (Corso Angelo Rizzoli\, 194\, 80076 Lacco Ameno NA\,
  Italia)
SUMMARY:La Filosofia\, il castello e la Torre: RACCOLTA FONDI PER LA RICERC
 A SULLE MALATTIE ONCOLOGICHE
URL:https://ischiaeventi.it/eventi-passati/evento/31829-la-filosofia-il-cas
 tello-e-la-torre-raccolta-fondi-per-la-ricerca-sulle-malattie-oncologiche
END:VEVENT
END:VCALENDAR
