BEGIN:VCALENDAR
VERSION:2.0
PRODID:-//https://ischiaeventi.it///NONSGML kigkonsult.se iCalcreator 2.10.15//
METHOD:PUBLISH
BEGIN:VEVENT
UID:20260423T223306UTC-5020KB29W4@https://ischiaeventi.it/
DTSTAMP:20260423T223306Z
DESCRIPTION:La grande zona pedonale: Ischia nel futuro dell’isola verde Con
  lo stop motori e le attività ricreative da Piazza Antica Reggia al Piazza
 le Aragonese https://ischiaeventi.it/eventi-passati/evento/31830-la-filoso
 fia-il-castello-e-la-torre-settembre-mese-del-senso-civico
DTSTART:20240914T160000Z
DTEND:20240914T183000Z
LOCATION:Piazza degli Eroi (Piazza Degli Eroi\, 80077 Ischia NA\, Italia)
SUMMARY:La Filosofia\, il castello e la Torre: SETTEMBRE\, MESE DEL SENSO C
 IVICO
URL:https://ischiaeventi.it/eventi-passati/evento/31830-la-filosofia-il-cas
 tello-e-la-torre-settembre-mese-del-senso-civico
END:VEVENT
END:VCALENDAR
