BEGIN:VCALENDAR
VERSION:2.0
PRODID:-//https://ischiaeventi.it///NONSGML kigkonsult.se iCalcreator 2.10.15//
METHOD:PUBLISH
BEGIN:VEVENT
UID:20260423T223305UTC-83681rv8hb@https://ischiaeventi.it/
DTSTAMP:20260423T223305Z
DESCRIPTION:La grande zona pedonale: Ischia nel futuro dell’isola verde\nCo
 n lo stop motori e le attività ricreative da Piazza Antica Reggia al Piazz
 ale Aragonese https://ischiaeventi.it/eventi-passati/evento/31837-la-filos
 ofia-il-castello-e-la-torre-settembre-mese-del-senso-civico
DTSTART:20240922T083000Z
DTEND:20240922T110000Z
LOCATION:Piazza degli Eroi (Piazza Degli Eroi\, 80077 Ischia NA\, Italia)
SUMMARY:La Filosofia\, il castello e la Torre: SETTEMBRE\, MESE DEL SENSO C
 IVICO
URL:https://ischiaeventi.it/eventi-passati/evento/31837-la-filosofia-il-cas
 tello-e-la-torre-settembre-mese-del-senso-civico
END:VEVENT
END:VCALENDAR
