BEGIN:VCALENDAR
VERSION:2.0
PRODID:-//https://ischiaeventi.it///NONSGML kigkonsult.se iCalcreator 2.10.15//
METHOD:PUBLISH
BEGIN:VEVENT
UID:20260423T210142UTC-4354JuxUre@https://ischiaeventi.it/
DTSTAMP:20260423T210142Z
DESCRIPTION:Ischitana\, ballare e cantare https://ischiaeventi.it/eventi-pa
 ssati/evento/31839-ischitana
DTSTART:20240813T180000Z
DTEND:20240813T214900Z
LOCATION:Parco Termale Negombo (Baia di S. Montano\, - 80076 Lacco Ameno NA
 \, Italia)
SUMMARY:Ischitana
URL:https://ischiaeventi.it/eventi-passati/evento/31839-ischitana
END:VEVENT
END:VCALENDAR
