BEGIN:VCALENDAR
VERSION:2.0
PRODID:-//https://ischiaeventi.it///NONSGML kigkonsult.se iCalcreator 2.10.15//
METHOD:PUBLISH
BEGIN:VEVENT
UID:20260423T210608UTC-4264bDjSbx@https://ischiaeventi.it/
DTSTAMP:20260423T210608Z
DESCRIPTION:Il Canto delle sirene https://ischiaeventi.it/eventi-passati/ev
 ento/31854-il-canto-delle-sirene
DTSTART:20240824T190000Z
DTEND:20240824T215900Z
LOCATION:Villa Arbusto (Corso Angelo Rizzoli\, 194\, 80076 Lacco Ameno NA\,
  Italia)
SUMMARY:Il Canto delle sirene
URL:https://ischiaeventi.it/eventi-passati/evento/31854-il-canto-delle-sire
 ne
END:VEVENT
END:VCALENDAR
