BEGIN:VCALENDAR
VERSION:2.0
PRODID:-//https://ischiaeventi.it///NONSGML kigkonsult.se iCalcreator 2.10.15//
METHOD:PUBLISH
BEGIN:VEVENT
UID:20260423T210615UTC-6224bK1cDB@https://ischiaeventi.it/
DTSTAMP:20260423T210615Z
DESCRIPTION:Il Canto delle sirene https://ischiaeventi.it/eventi-passati/ev
 ento/31855-il-canto-delle-sirene
DTSTART:20240825T190000Z
DTEND:20240825T215900Z
LOCATION:Villa Arbusto (Corso Angelo Rizzoli\, 194\, 80076 Lacco Ameno NA\,
  Italia)
SUMMARY:Il Canto delle sirene
URL:https://ischiaeventi.it/eventi-passati/evento/31855-il-canto-delle-sire
 ne
END:VEVENT
END:VCALENDAR
