BEGIN:VCALENDAR
VERSION:2.0
PRODID:-//https://ischiaeventi.it///NONSGML kigkonsult.se iCalcreator 2.10.15//
METHOD:PUBLISH
BEGIN:VEVENT
UID:20260423T223425UTC-9535SDThaP@https://ischiaeventi.it/
DTSTAMP:20260423T223425Z
DESCRIPTION: https://ischiaeventi.it/eventi-passati/evento/31856-forio-per-
 la-cultura-villa-la-colombaia-di-luchino-visconti-omaggia-alain-delon
DTSTART:20240819T190000Z
DTEND:20240819T214200Z
LOCATION:La Colombaia (Via Francesco Calise\, 130\, 80075 Forio NA\, Italia
 )
SUMMARY:Forio per la Cultura: Villa La Colombaia di Luchino Visconti omaggi
 a Alain Delon
URL:https://ischiaeventi.it/eventi-passati/evento/31856-forio-per-la-cultur
 a-villa-la-colombaia-di-luchino-visconti-omaggia-alain-delon
END:VEVENT
END:VCALENDAR
