BEGIN:VCALENDAR
VERSION:2.0
PRODID:-//https://ischiaeventi.it///NONSGML kigkonsult.se iCalcreator 2.10.15//
METHOD:PUBLISH
BEGIN:VEVENT
UID:20260424T004357UTC-1092XkUrhB@https://ischiaeventi.it/
DTSTAMP:20260424T004357Z
DESCRIPTION:Percorreremo i sentieri del tufo verde di “Santu Nicola” accomp
 agnati da antichi canti ischitani\, storie di contadini\, di vendemmie e l
 eggende locali\, a cura del prof. Denis Trani\, guida ambientale e cantore
  di Ischia. Intense emozioni affolleranno la mente del viandante\, che las
 cerà\, un pezzo del suo cuore sul tetto dell’isola e porterà con sé le sue
  melodie. Al termine\, degustazione con vino e “culurcio” di pane cotto a 
 legna con pomodori e altri prodotti genuini di “Miscillo sapori e...”\n&nb
 sp\;\n€ 40 a persona https://ischiaeventi.it/eventi-passati/evento/32394-a
 ndar-per-cantine-2024-il-sentiero-dell-eremo-del-monte-epomeo
DTSTART:20241005T080000Z
DTEND:20241005T130000Z
LOCATION:Piazza San Leonardo ( Via Cavaliere Leonardo Impagliazzo\, 53\, 80
 075 Forio NA)
SUMMARY:Andar per cantine 2024: il sentiero dell' Eremo del Monte Epomeo
URL:https://ischiaeventi.it/eventi-passati/evento/32394-andar-per-cantine-2
 024-il-sentiero-dell-eremo-del-monte-epomeo
END:VEVENT
END:VCALENDAR
