BEGIN:VCALENDAR
VERSION:2.0
PRODID:-//https://ischiaeventi.it///NONSGML kigkonsult.se iCalcreator 2.10.15//
METHOD:PUBLISH
BEGIN:VEVENT
UID:20260423T173355UTC-9912GxdGHX@https://ischiaeventi.it/
DTSTAMP:20260423T173355Z
DESCRIPTION:20.00 XMAS DRAGODI evento settimanale del calendario dedicato a
 gli appassionati di giochi da tavolo e giochi di ruolo nel Salone di San M
 ichele in Monterone Forio&nbsp\; https://ischiaeventi.it/eventi-passati/ev
 ento/34102-forio-merryland-xmas-dragodi
DTSTART:20241220T190000Z
DTEND:20241220T210000Z
LOCATION:Comune di Forio (Piazza Municipio\, 1\, 80075 Forio NA\, Italia)
SUMMARY:Forio MerryLand: XMAS DRAGODI
URL:https://ischiaeventi.it/eventi-passati/evento/34102-forio-merryland-xma
 s-dragodi
END:VEVENT
END:VCALENDAR
