BEGIN:VCALENDAR
VERSION:2.0
PRODID:-//https://ischiaeventi.it///NONSGML kigkonsult.se iCalcreator 2.10.15//
METHOD:PUBLISH
BEGIN:VEVENT
UID:20260423T220733UTC-9507kBxxPb@https://ischiaeventi.it/
DTSTAMP:20260423T220733Z
DESCRIPTION:19:00 ACCENDI LA NOTTE!&nbsp\; Intrattenimento musicale per il 
 centro e il porto di Forio con Special Guest LDA e Petit che accenderanno 
 la serata a ritmo di musica in Forio. https://ischiaeventi.it/eventi-passa
 ti/evento/34105-forio-merryland-accendi-la-notte
DTSTART:20241221T180000Z
DTEND:20241221T225900Z
LOCATION:Comune di Forio (Piazza Municipio\, 1\, 80075 Forio NA\, Italia)
SUMMARY:Forio MerryLand: ACCENDI LA NOTTE!  
URL:https://ischiaeventi.it/eventi-passati/evento/34105-forio-merryland-acc
 endi-la-notte
END:VEVENT
END:VCALENDAR
