BEGIN:VCALENDAR
VERSION:2.0
PRODID:-//https://ischiaeventi.it///NONSGML kigkonsult.se iCalcreator 2.10.15//
METHOD:PUBLISH
BEGIN:VEVENT
UID:20260423T214123UTC-8918tGUxpX@https://ischiaeventi.it/
DTSTAMP:20260423T214123Z
DESCRIPTION:Caccia al tesoro di Halloween https://ischiaeventi.it/eventi-pa
 ssati/evento/35356-caccia-al-tesoro
DTSTART:20241101T200000Z
DTEND:20241101T223000Z
LOCATION:Arkè Cooperativa sociale (Via Morgioni\, 90\, 80077 Ischia NA\, It
 alia)
SUMMARY:Caccia al tesoro
URL:https://ischiaeventi.it/eventi-passati/evento/35356-caccia-al-tesoro
END:VEVENT
END:VCALENDAR
