BEGIN:VCALENDAR
VERSION:2.0
PRODID:-//https://ischiaeventi.it///NONSGML kigkonsult.se iCalcreator 2.10.15//
METHOD:PUBLISH
BEGIN:VEVENT
UID:20260423T210801UTC-21130sDA6B@https://ischiaeventi.it/
DTSTAMP:20260423T210801Z
DESCRIPTION:Natale a Ischia: Stelle in strada https://ischiaeventi.it/event
 i-passati/evento/35838-natale-a-ischia-stelle-in-strada
DTSTART:20241229T200000Z
DTEND:20241229T220000Z
LOCATION:Via Roma (Via Roma\, 80077 Ischia NA\, Italia)
SUMMARY:Natale a Ischia: Stelle in strada
URL:https://ischiaeventi.it/eventi-passati/evento/35838-natale-a-ischia-ste
 lle-in-strada
END:VEVENT
END:VCALENDAR
