BEGIN:VCALENDAR
VERSION:2.0
PRODID:-//https://ischiaeventi.it///NONSGML kigkonsult.se iCalcreator 2.10.15//
METHOD:PUBLISH
BEGIN:VEVENT
UID:20260423T223350UTC-4067ADZsuo@https://ischiaeventi.it/
DTSTAMP:20260423T223350Z
DESCRIPTION:Franco Arminio – Sacro Minore – spettacolo https://ischiaeventi
 .it/eventi-passati/evento/36811-bellissima-rassegna-di-eventi-franco-armin
 io---sacro-minore---spettacolo
DTSTART:20241211T160000Z
DTEND:20241211T180000Z
LOCATION:La Colombaia (Via Francesco Calise\, 130\, 80075 Forio NA\, Italia
 )
SUMMARY:“BELLISSIMA” rassegna di eventi: Franco Arminio – Sacro Minore – sp
 ettacolo 
URL:https://ischiaeventi.it/eventi-passati/evento/36811-bellissima-rassegna
 -di-eventi-franco-arminio---sacro-minore---spettacolo
END:VEVENT
END:VCALENDAR
