BEGIN:VCALENDAR
VERSION:2.0
PRODID:-//https://ischiaeventi.it///NONSGML kigkonsult.se iCalcreator 2.10.15//
METHOD:PUBLISH
BEGIN:VEVENT
UID:20260423T223350UTC-4566a3iA84@https://ischiaeventi.it/
DTSTAMP:20260423T223350Z
DESCRIPTION:Giancarlo Giannini e Marzo Zurzolo presentano Musica &amp\;Paro
 le https://ischiaeventi.it/eventi-passati/evento/36812-bellissima-rassegna
 -di-eventi-giancarlo-giannini-e-marzo-zurzolo-presentano-musica-parole
DTSTART:20241214T170000Z
DTEND:20241214T190000Z
LOCATION:La Colombaia (Via Francesco Calise\, 130\, 80075 Forio NA\, Italia
 )
SUMMARY:“BELLISSIMA” rassegna di eventi: Giancarlo Giannini e Marzo Zurzolo
  presentano Musica &Parole
URL:https://ischiaeventi.it/eventi-passati/evento/36812-bellissima-rassegna
 -di-eventi-giancarlo-giannini-e-marzo-zurzolo-presentano-musica-parole
END:VEVENT
END:VCALENDAR
