BEGIN:VCALENDAR
VERSION:2.0
PRODID:-//https://ischiaeventi.it///NONSGML kigkonsult.se iCalcreator 2.10.15//
METHOD:PUBLISH
BEGIN:VEVENT
UID:20260424T000002UTC-3386X2vE0O@https://ischiaeventi.it/
DTSTAMP:20260424T000002Z
DESCRIPTION:Il Signore degli Anelli: Un confronto tra il libro&nbsp\;e&nbsp
 \;i&nbsp\;film. Talk a cura dell’Associazione Drago Verde&nbsp\; https://i
 schiaeventi.it/eventi-passati/evento/36816-bellissima-rassegna-di-eventi-i
 l-signore-degli-anelli
DTSTART:20241217T180000Z
DTEND:20241217T200000Z
LOCATION:La Colombaia (Via Francesco Calise\, 130\, 80075 Forio NA\, Italia
 )
SUMMARY:“BELLISSIMA” rassegna di eventi:  Il Signore degli Anelli
URL:https://ischiaeventi.it/eventi-passati/evento/36816-bellissima-rassegna
 -di-eventi-il-signore-degli-anelli
END:VEVENT
END:VCALENDAR
