BEGIN:VCALENDAR
VERSION:2.0
PRODID:-//https://ischiaeventi.it///NONSGML kigkonsult.se iCalcreator 2.10.15//
METHOD:PUBLISH
BEGIN:VEVENT
UID:20260423T223425UTC-70740A52TG@https://ischiaeventi.it/
DTSTAMP:20260423T223425Z
DESCRIPTION:inaugurazione mostra fotografica a cura di Gino Di Meglio&nbsp\
 ; https://ischiaeventi.it/eventi-passati/evento/36823-bellissima-rassegna-
 di-eventi-inaugurazione-mostra-fotografica
DTSTART:20241229T170000Z
DTEND:20241229T180000Z
LOCATION:La Colombaia (Via Francesco Calise\, 130\, 80075 Forio NA\, Italia
 )
SUMMARY:“BELLISSIMA” rassegna di eventi: inaugurazione mostra fotografica 
URL:https://ischiaeventi.it/eventi-passati/evento/36823-bellissima-rassegna
 -di-eventi-inaugurazione-mostra-fotografica
END:VEVENT
END:VCALENDAR
