BEGIN:VCALENDAR
VERSION:2.0
PRODID:-//https://ischiaeventi.it///NONSGML kigkonsult.se iCalcreator 2.10.15//
METHOD:PUBLISH
BEGIN:VEVENT
UID:20260423T223058UTC-0755tF6uxd@https://ischiaeventi.it/
DTSTAMP:20260423T223058Z
DESCRIPTION:“BELLISSIMA” rassegna di eventi: workshop SuoniAmoci Su\nLabora
 torio di percussioni e movimento per grandi e piccoli\, genitori e figli\,
  a cura di Accademia Musicale note sul mare.&nbsp\; https://ischiaeventi.i
 t/eventi-passati/evento/36831-bellissima-rassegna-di-eventi-workshop-suoni
 amoci-su
DTSTART:20250126T093000Z
DTEND:20250126T110000Z
LOCATION:La Colombaia (Via Francesco Calise\, 130\, 80075 Forio NA\, Italia
 )
SUMMARY:“BELLISSIMA” rassegna di eventi:  workshop SuoniAmoci Su
URL:https://ischiaeventi.it/eventi-passati/evento/36831-bellissima-rassegna
 -di-eventi-workshop-suoniamoci-su
END:VEVENT
END:VCALENDAR
