BEGIN:VCALENDAR
VERSION:2.0
PRODID:-//https://ischiaeventi.it///NONSGML kigkonsult.se iCalcreator 2.10.15//
METHOD:PUBLISH
BEGIN:VEVENT
UID:20260423T223110UTC-1002vi2loF@https://ischiaeventi.it/
DTSTAMP:20260423T223110Z
DESCRIPTION:“Streghe &amp\; gattopardi. A teatro con Luchino Visconti “Prog
 etto di Laboratorio Teatrale&nbsp\; https://ischiaeventi.it/eventi-passati
 /evento/36834-bellissima-rassegna-di-eventi-streghe-gattopardi
DTSTART:20250207T183000Z
DTEND:20250207T200000Z
LOCATION:La Colombaia (Via Francesco Calise\, 130\, 80075 Forio NA\, Italia
 )
SUMMARY:“BELLISSIMA” rassegna di eventi:  “Streghe & gattopardi
URL:https://ischiaeventi.it/eventi-passati/evento/36834-bellissima-rassegna
 -di-eventi-streghe-gattopardi
END:VEVENT
END:VCALENDAR
