BEGIN:VCALENDAR
VERSION:2.0
PRODID:-//https://ischiaeventi.it///NONSGML kigkonsult.se iCalcreator 2.10.15//
METHOD:PUBLISH
BEGIN:VEVENT
UID:20260423T210502UTC-2172IHI3jV@https://ischiaeventi.it/
DTSTAMP:20260423T210502Z
DESCRIPTION:Laboratori per bambini a cura de Il Mondo di Alice https://isch
 iaeventi.it/eventi-passati/evento/36884-mare-copp-mas-laboratorio-per-bamb
 ini
DTSTART:20241213T150000Z
DTEND:20241213T170000Z
LOCATION:Centro Polifunzionale di Fontana (Piazza Arturo Trofa - Serrara)
SUMMARY:Mare Copp Mas: Laboratorio per bambini
URL:https://ischiaeventi.it/eventi-passati/evento/36884-mare-copp-mas-labor
 atorio-per-bambini
END:VEVENT
END:VCALENDAR
