BEGIN:VCALENDAR
VERSION:2.0
PRODID:-//https://ischiaeventi.it///NONSGML kigkonsult.se iCalcreator 2.10.15//
METHOD:PUBLISH
BEGIN:VEVENT
UID:20260424T004240UTC-3575PeMzOn@https://ischiaeventi.it/
DTSTAMP:20260424T004240Z
DESCRIPTION:Girare l’isola in microtaxi significa guardare con occhi divers
 i Ischia che\, si mostra nella sua purezza e originalità dal sapore antico
  quasi tradizionale.\nPer ulteriori info e prenotazioni clicca qui\n\n\n&n
 bsp\;\n\n\n&nbsp\;\n\n&nbsp\;\n&nbsp\;\n\n\n\n\n https://ischiaeventi.it/e
 venti-passati/evento/36906-ischia-daltri-tempi-tour-in-microtaxi
DTSTART;VALUE=DATE:20241202
LOCATION:Isola d'Ischia (Isola d'Ischia\, Napoli\, Italia)
SUMMARY:Ischia d'altri tempi: tour in microtaxi
URL:https://ischiaeventi.it/eventi-passati/evento/36906-ischia-daltri-tempi
 -tour-in-microtaxi
END:VEVENT
END:VCALENDAR
