BEGIN:VCALENDAR
VERSION:2.0
PRODID:-//https://ischiaeventi.it///NONSGML kigkonsult.se iCalcreator 2.10.15//
METHOD:PUBLISH
BEGIN:VEVENT
UID:20260423T212700UTC-3656Iv8gPa@https://ischiaeventi.it/
DTSTAMP:20260423T212700Z
DESCRIPTION:Reading teatrale con musiche ‘eseguite da Pithecusa Brass Ensem
 ble Regia di Salvatore Ronga - a cura dell'Associazione Culturale Metamorp
 hosis https://ischiaeventi.it/eventi-passati/evento/38248-lacco-ameno-in-c
 anti-di-natale-ricordo-di-natale
DTSTART:20241230T170000Z
DTEND:20241230T190000Z
LOCATION:Villa Arbusto (Corso Angelo Rizzoli\, 194\, 80076 Lacco Ameno NA\,
  Italia)
SUMMARY:Lacco Ameno In-canti di Natale: Ricordo di Natale
URL:https://ischiaeventi.it/eventi-passati/evento/38248-lacco-ameno-in-cant
 i-di-natale-ricordo-di-natale
END:VEVENT
END:VCALENDAR
