BEGIN:VCALENDAR
VERSION:2.0
PRODID:-//https://ischiaeventi.it///NONSGML kigkonsult.se iCalcreator 2.10.15//
METHOD:PUBLISH
BEGIN:VEVENT
UID:20260423T203738UTC-3498hDv9Rc@https://ischiaeventi.it/
DTSTAMP:20260423T203738Z
DESCRIPTION:Benedizione degli animali in onore di S. Antonio Abate https://
 ischiaeventi.it/eventi-passati/evento/41099-benedizione-degli-animali
DTSTART:20250117T150000Z
DTEND:20250117T160000Z
LOCATION:Piazza Maio di Casamicciola Terme (Piazza Maio\, 28\, 80074 Casami
 cciola Terme NA\, Italia)
SUMMARY:Benedizione degli animali
URL:https://ischiaeventi.it/eventi-passati/evento/41099-benedizione-degli-a
 nimali
END:VEVENT
END:VCALENDAR
