BEGIN:VCALENDAR
VERSION:2.0
PRODID:-//https://ischiaeventi.it///NONSGML kigkonsult.se iCalcreator 2.10.15//
METHOD:PUBLISH
BEGIN:VEVENT
UID:20260423T195508UTC-8329W69m4l@https://ischiaeventi.it/
DTSTAMP:20260423T195508Z
DESCRIPTION:Presentazione libro: Rivoluzione russa in Ucraina https://ischi
 aeventi.it/eventi-passati/evento/42609-rivoluzione-russa-in-ucraina
DTSTART:20250208T170000Z
DTEND:20250208T185700Z
LOCATION:Libreria Imagaenaria (Palazzo dell'Orologio\, Via Luigi Mazzella\,
  46/50\, 80077 Ischia NA\, Italia)
SUMMARY:Rivoluzione russa in Ucraina
URL:https://ischiaeventi.it/eventi-passati/evento/42609-rivoluzione-russa-i
 n-ucraina
END:VEVENT
END:VCALENDAR
