BEGIN:VCALENDAR
VERSION:2.0
PRODID:-//https://ischiaeventi.it///NONSGML kigkonsult.se iCalcreator 2.10.15//
METHOD:PUBLISH
BEGIN:VEVENT
UID:20260423T210334UTC-7518vsX0Ei@https://ischiaeventi.it/
DTSTAMP:20260423T210334Z
DESCRIPTION:Mostra Veranica Acunto\nIngresso Libero\n&nbsp\; https://ischia
 eventi.it/eventi-passati/evento/68477-mostra-veronica-acunto
DTSTART:20250507T173000Z
DTEND:20250507T190000Z
LOCATION:Villa Arbusto (Corso Angelo Rizzoli\, 194\, 80076 Lacco Ameno NA\,
  Italia)
SUMMARY:Mostra Veronica Acunto
URL:https://ischiaeventi.it/eventi-passati/evento/68477-mostra-veronica-acu
 nto
END:VEVENT
END:VCALENDAR
