BEGIN:VCALENDAR
VERSION:2.0
PRODID:-//https://ischiaeventi.it///NONSGML kigkonsult.se iCalcreator 2.10.15//
METHOD:PUBLISH
BEGIN:VEVENT
UID:20260423T221845UTC-8284O7Fvp3@https://ischiaeventi.it/
DTSTAMP:20260423T221845Z
DESCRIPTION: https://ischiaeventi.it/eventi-passati/evento/68506-intensive-
 english-course
DTSTART:20250707T133000Z
DTEND:20250711T163000Z
LOCATION:Città di Ischia (Via Roma\, 86\, 80077 Ischia NA\, Italia)
SUMMARY:Intensive English Course
URL:https://ischiaeventi.it/eventi-passati/evento/68506-intensive-english-c
 ourse
END:VEVENT
END:VCALENDAR
