BEGIN:VCALENDAR
VERSION:2.0
PRODID:-//https://ischiaeventi.it///NONSGML kigkonsult.se iCalcreator 2.10.15//
METHOD:PUBLISH
BEGIN:VEVENT
UID:20260424T024742UTC-68387sXevo@https://ischiaeventi.it/
DTSTAMP:20260424T024742Z
DESCRIPTION:Giulia De Caro\, da meretrice a impresaria: storia esemplare di
  una canterina seicentesca https://ischiaeventi.it/eventi-passati/evento/7
 3489-giulia-de-caro-da-meretrice-a-impresaria
DTSTART:20250520T160000Z
DTEND:20250520T180000Z
LOCATION:Biblioteca Antoniana (Rampe S.Antonio\, 5\, 80077 - Ischia)
SUMMARY:Giulia De Caro\, da meretrice a impresaria
URL:https://ischiaeventi.it/eventi-passati/evento/73489-giulia-de-caro-da-m
 eretrice-a-impresaria
END:VEVENT
END:VCALENDAR
